Workbook

Sheet Estructura codificación
A1: N1 Técnica | C1: N2 Órgano | E1: N3 Prueba | G1: N4 Procedimiento | I1: CODIFICACIÓN: ESTRUCTURA JERÁRQUICA
A2: 0 | B2: 0 | I2: VARIOS
A3: 0 | B3: 1 | I3: RX SIMPLE
A4: 0 | B4: 2 | I4: MAMOGRAFÍA E INTERVENCIONISMO DE MAMA
A5: 0 | B5: 3 | I5: RADIOLOGÍA CONVENCIONAL CON CONTRASTE
A6: 0 | B6: 4 | I6: ECOGRAFÍA
A7: 0 | B7: 5 | I7: TOMOGRAFÍA COMPUTARIZADA
A8: 0 | B8: 6 | I8: RESONANCIA MAGNÉTICA
A9: 0 | B9: 7 | I9: INTERVENCIONISMO GENERAL
A10: 0 | B10: 8 | I10: NEUROVASCULAR E INTERVENCIONISTA
A11: 0 | B11: 9 | I11: VASCULAR E INTERVENCIONISTA
I12: Órganos o Sistemas
C13: 0 | D13: 0 | I13: MAMA
C14: 0 | D14: 1 | I14: TÓRAX
C15: 0 | D15: 2 | I15: CORAZÓN
C16: 0 | D16: 3 | I16: ABDOMEN
C17: 0 | D17: 4 | I17: CRÁNEO, CARA Y CUELLO
C18: 0 | D18: 5 | I18: COLUMNA
C19: 0 | D19: 6 | I19: MUSCULOESQUELÉTICO
C20: 0 | D20: 7 | I20: VASCULAR
C21: 0 | D21: 8 | I21: PEDIATRÍA
C22: 0 | D22: 9 | I22: MULTISISTEMA

Sheet Resumen de exportación
B3: Este documento se ha exportado desde Numbers. Cada tabla se ha convertido en una hoja de cálculo de Excel. Los demás objetos de las hojas de Numbers se han colocado en distintas hojas de cálculo. Recuerda que el cálculo de fórmulas puede ser diferente en Excel.
B7: Nombre de hoja de Numbers | C7: Nombre de tabla de Numbers | D7: Nombre de hoja de cálculo de Excel
B9: Participantes
C10: Tabla 1 | D10: Participantes
B11: Estructura codificación
C12: Tabla 1 | D12: Estructura codificación
B13: Leyenda
C14: Tabla 1 | D14: Leyenda
B15: Radiología simple.
C16: Tabla 1 | D16: Radiología simple.
B17: Unidad de Mama
C18: Tabla 1 | D18: Unidad de Mama
B19: Rad. Conv. con contraste
C20: Tabla 1 | D20: Rad. Conv. con contraste
B21: Especificos de pediatría.
C22: Tabla 1 | D22: Especificos de pediatría.
B23: Ecografía
C24: Tabla 1 | D24: Ecografía
B25: Especificos Pediatría
C26: Tabla 1 | D26: Especificos Pediatría
B27: Interv. General
C28: Tabla 1 | D28: Interv. General
B29: Neurovas. Interv.
C30: Tabla 1 | D30: Neurovas. Interv.
B31: Vascular intervenci.
C32: Tabla 1 | D32: Vascular intervenci.
B33: TC
C34: Tabla 1 | D34: TC
B35: RM
C36: Tabla 1 | D36: RM
B37: Varios
C38: Tabla 1 | D38: Varios
B39: datos lista validación
C40: Tabla 1 | D40: datos lista validación

Sheet Epígrafes del catálogo
A1: En el actual catálogo se han empleado las siguientes definiciones y epígrafes:
A3: PRUEBA | B3: Referencia nominal a incluir en la aplicación de solicitudes de estudios de imagen (petitorio). En términos de gestión de admisión la solicitud de una prueba genera una propuesta. Una prueba puede corresponder a uno o más variantes de procedimientos.
A5: PROCEDIMIENTO | B5: Referencia nominal a incluir en el Servidor de Información Radiológica (RIS/SIR) para gestión de agendas y control de actividad en la que se define su TOS y TM. No pueden existir dos procedimientos iguales. Su numeración se incluye en la cabecera DICOM del estudio.
A7: DECISION | B7: Decisión del comité respecto a permanencia, modificación o exclusión de un determinado procedimiento en su última revisión
A9: DESCRIPCION PROCEDIMIENTO | B9: El objeto de la descripción es delimitar las condiciones de adquisicón para facilitar su comparabilidad en términos de dosis, coste y criterios de calidad
A11: UAR (Unida Actividad Relativa) | B11: Estimación de actividad para comparar complejidad UAR= Tiempo profesional en proporción con respecto al requerido para realizar una radiografía PA y lateral de tórax
A13: índice de complejidad | B13: Clasificador de actividad basado en UAR. Se consideran standard aquellas <4 UAR, avanzadas aquellas entre 4-9 UAR y complejas aquellas >10 UAR
A15: URV (Unidad Relativa Valor) | B15: URV = tiempo profesional+ coste de material + costeamortización
A17: TIEMPO OCUPACIÓN SALA (TOS) | B17: Estimación en minutos del tiempo empleado por los profesionales intervientes en completar una determinada prueba o procedimiento.
A19: TIEMPO MÉDICO (TM) | B19: Estimación en minutos del tiempo empleado por los facultativos intervientes en completar las tareas relacionadas con una determinada prueba o procedimiento.
A21: Nº FE ADQ | B21: Número de profesionales facultativos especialistas que se recomiendan necesarios para llevar a cabo un determinado procedimiento diagnóstico o terapéutico
A23: Nº DUE | B23: Número de diplomados universitarios de enfermeria que se recomiendan necesarios para llevar a cabo un determinado procedimiento diagnóstico o terapéutico
A25: Nº TSID | B25: Número de profesionales Técnicos Superiores de Imagen para el Diaagnóstico n a que se recomiendan necesarios para llevar a cabo un determinado procedimiento diagnóstico o terapéutico
... A31: NA | B31: No aplica

Sheet Participantes
A1: Nombre y Apellido | B1: Cargo | C1: Representante de | D1: Teléfono | E1: e-mail | F1: Centro de trabajo
A2: Tomas Ripolles Gonzalez | C2: SEUS | E2: ripolles_tom@gva.es | F2: Hospital Universitario Dr. Peset .Valencia
A3: Mar Perez -Peña | C3: SEUS | E3: mar_perez@yahoo.com | F3: Hospital Álvarez-Buylla. Mieres. Asturias
A4: Jose Luis Del Cura | C4: SEUS | E4: joseluis.delcurarodriguez@osakidetza.eus | F4: Hospital Universitario Donosti. Donosti
A5: Santiago Mendez Alonso | C5: SERVEI | E5: smendez.sma@gmail.com | F5: Hospital Universitario Puerta de Hierro Majadahonda. Madrid
A6: Jose Andrés Guirola | C6: SERVEI | F6: Hospital Clínico Universitario Lozano Blesa. Zaragoza
A7: Joaquim Piqueras Padellans | C7: SERPE | E7: joaquim.piqueras@vallhebron.cat | F7: Hospital Universitario Vall d'hebró. Barcelona.
A8: Raquel Prada González | C8: SERME | E8: rachelprad@gmail.com | F8: Hospital Ribera Povisa. Vigo
A9: Ana Isabel García | C9: SERME | E9: garciaai@hotmail.com | F9: Hospital Clínic. Barcelona
A10: Juan Calvo Blanco | C10: SERAU | E10: juan.calvobla@gmail.com | F10: Hospital Universitario Central de Asturias. Oviedo
A11: Elena Martinez Chamorro | C11: SERAU | E11: elenamartinezcha@hotmail.com | F11: Hospital Universitario 12 de Octubre. Madrid
A12: Luis Concepción Aramendía | B12: Responsable Asuntos Profesionales SERAM | C12: SERAM | D12: 638142193 | E12: asuntos.profesionales@gmail.com | F12: Hospital General Universitario Dr. Balmis. Alicante
A13: Jose Carmelo Albillos Merino | C13: SERAM | E13: jcarmelo.albillos@salud.madrid.org | F13: Hospital Universitario 12 de Octubre. Madrid
A14: Andres Gonzalez Mandy | C14: SENR/GENI | E14: agonzalezmandly@gmail.com | F14: Hospital Universitario Marques de Valdecilla. Santander
A15: Teresa Cabada Giadás | C15: SENR | E15: teresa.cabada.giadas@navarra.es | F15: Hospital Universitario Navarra. Navarra
A16: Carlos Delgado Sánchez-Gracián | C16: SEICAT | E16: cdelgado@povisa.es | F16: Hospital Ribera Povisa. Vigo
A17: Alberto Hidalgo | C17: SEICAT | E17: alhidalgop@gmail.com | F17: Hospital Josep Trueta. Girona
A18: Maria Rosa Cozculluela | C18: SEGECA | F18: Hospital de Tudela. Navarra
A19: Miguel Angel Trapero García | C19: SEGECA | E19: matrapero@fhalcorcon.es | F19: Hospital Fuenlabrada. Madrid
A20: Sara Lojo Lendoiro | C20: SEGECA | E20: sara.lojo.lendoiro@gmail.com | F20: Hospital Álvaro Cunqueiro. Vigo
A21: Mariana Rovira Cañellas | C21: SEGECA | E21: mrovirac@lcr.cat | F21: Hospital del Mar. Barcelona
A22: Fatima Matute | C22: SEGECA | E22: fatimamatute@yahoo.es ; fatimamatuterx@gmail.com | F22: Hospital Clínico. Madrid
A23: María Isabel Romero Manjón | C23: SEGECA | E23: isabelromami@gmail.com | F23: Hospital Virgen de las Nieves. Granada
A24: Jose María Maiques | C24: SEGECA | E24: jmaiques@psmar.cat | F24: Hospital del Mar. Barcelona.
A25: Pilar Alonso Bartolome | C25: SEDIM | E25: palonsobartolo@gmail.com | F25: Hospital Universitario Marques de Valdecilla. Santander
A26: Lucia Grana Lopez | C26: SEDIM | E26: lucia.grana.lopez@sergas.es ; grana.lopez.lucia@gmail.com | F26: Hospital Universitario Lucus Agustí. Lugo
A27: Jordi Rimola | C27: SEDIA | E27: jrimola@clinic.cat | F27: Hospital Clínic. Barcelona
A28: Gonzalo Tardáguila de la Fuente | C28: SEDIA | E28: gtardaguila@povisa.es | F28: Hospital Ribera Povisa. Vigo

Sheet Codificación cambios
A2: Pruebas, exploraciones, códigos,
A3: en letra verde los que se incluyen o se modifican respecto al catálogo 2016 | L3: MAMOGRAFÍA UNILATERAL CON CONTRASTE
A4: en letra roja los que se elimina respecto al catálogo 2016 o no se acepta su inclusión en el catálogo 2024 | L4: MASTOIDES CUATRO PROYECCIONES
A7: UAR
A8: fondo rojo bajan respecto a versión 2016
A9: fondo verde aumentan respecto a versión 2016
A11: Tiempos:
A12: fondo azul bajan respecto a versión 2016
A13: fondo fucsia suben respecto a versión 2026

Sheet Leyenda
A2: Utilizaremos casilla de color blanco y letra en negro para el catalogo SERAM 2016 + SERMAS 2016
A3: Utilizaremos casillas de color blanco y letra de color VERDE para las solicitudes de inclusión
A4: Utilizaremos casillas de color blanco y letra de color ROJO para las solicitudes de exclusión
C6: Representantes de referencia
C7: Restantes incluidos en primera hoja
A8: Se añade una columna nueva SEC. PROPONE, para indicar que sección realiza la propuesta. | B8: SEICAT | C8: Dr. Hidalgo, Alberto
B9: SERPE | C9: Dr. Piqueras, Joaquim
B10: SERME | C10: Dra. García, Isabel
B11: SENRGENI | C11: Dr. Gonzalez, Andres
B12: SERAU | C12: Dra. Martinez Chamorro, Elena
B13: SEGECA | C13: Dra. Romero, Isabel; Dr. Maiques, Joe
B14: SEDIM | C14: Dra. Graña, Lucia
B15: SERVEI | C15: Dr. Mendez, Santiago
B16: SEUS | C16: Dr. Tomás Ripollés
B17: SENRDX | C17: Dra. Cabadas, Teresa
A18: Realzado verde si se necesita clarificación de esta cuestion por parte del que hace la propuesta en la reunión conjunta con el grupo de trabajo
A19: Realzado en amarillo, superposición de propuestas que requiere consenso
A20: Revisado por equipo coordinador

Sheet Rsimple Descript WIP
A1: REVISADA
N2: OMC | V2: CATÁLOGO PRUEBAS Y PROCEDIMIENTOS SERAM 2024
I3: =CONCATENATE(A3,B3,C3,D3,E3,F3,G3,H3) | T3: RADIOLOGÍA SIMPLE
A4: N1 Técnica | C4: N2 Órgano | E4: N3 Prueba | G4: N4 Procedimiento | I4: COD 2015 | J4: COD 2009 | K4: COD 2009 | L4: GRP ORD. | M4: Descriptor | N4: Complejidad | O4: Anestesia | P4: CIEP 9 | Q4: VALORACIÓN | R4: SEC. PROPONE | S4: Código 2023 | T4: PROCEDIMIENTO | U4: DECISION | V4: DESCRIPCION PROCEDIMIENTO (WIP) | X4: URA | Y4: URV | Z4: TIEMPO OCUPACIÓN SALA | AA4: TIEMPO MÉDICO | AB4: Nº FE ADQ | AC4: Nº DUE | AD4: Nº TSID | AE4: Nº TCAE | AF4: Coste TER | AG4: Coste DUE | AH4: Coste médico | AI4: Coste TCAE | AJ4: Coste total personal | AK4: URA | AL4: Coste equipos | AM4: Coste contraste | AN4: Coste fungible | AO4: Coste PACS | AP4: Coste total | AQ4: URV | AR4: NDR (WIP) | AS4: Recomendación de uso | AV4: Criterios de Calidad
I5: =CONCATENATE(A5,B5,C5,D5,E5,F5,G5,H5) | R5: SERAM | T5: Pediatría: factor de corrección TOS x 1,4; URA y URV x 1,2
I6: =CONCATENATE(A6,B6,C6,D6,E6,F6,G6,H6) | J6: 10 | R6: SERAM | T6: RADIOLOGÍA DE TÓRAX | W6: RADIOLOGÍA DE TÓRAX
A7: 0 | B7: 1 | C7: 0 | D7: 1 | E7: 0 | F7: 1 | G7: 0 | H7: 1 | I7: =CONCATENATE(A7,B7,C7,D7,E7,F7,G7,H7) -> 01010101 | K7: 70101 | L7: 30102 | M7: Radiología simple_tronco | R7: SERAM | T7: TÓRAX PA | U7: Mantener | V7: Una adquisción radiográfica colimada de la región torácica en bipedestación e inspiración máxima. En el caso de maniobra de espiración para detección de nuemotórax/atrapamiento aéreo debe marcarse sobre la imagen. | W7: TÓRAX, PA | X7: =AK7 -> 0.94137467 | Y7: =AQ7 -> 0.92810386 | Z7: 5 | AA7: 5 | AB7: 0 | AC7: 0 | AD7: 1 | AE7: 0 | AF7: 1.6392142 | AG7: 0 | AH7: 3.6251131 | AJ7: =SUM(AF7,AG7,AH7:AI7) -> 5.2643273 | AK7: =AJ7/AJ$8 -> 0.94137467 | AL7: 1.428413 | AM7: 0 | AN7: 0 | AO7: 1.2272304 | AP7: =SUM(AJ7,AL7,AM7,AN7,AO7) -> 7.9199707 | AQ7: =AP7/AP$8 -> 0.92810386 | AS7: Estándar
A8: 0 | B8: 1 | C8: 0 | D8: 1 | E8: 0 | F8: 2 | G8: 0 | H8: 1 | I8: =CONCATENATE(A8,B8,C8,D8,E8,F8,G8,H8) -> 01010201 | K8: 70102 | L8: 30102 | M8: Radiología simple_tronco | R8: SERAM | T8: TÓRAX PA Y LAT | U8: Mantener | V8: Dos adquisiciones radiográficas ortogonales colimadas de la región torácica tomadas en bipedstación e inspiración máxima | W8: TÓRAX, PA Y LAT | X8: =AK8 -> 1 | Y8: =AQ8 -> 1 | Z8: 6 | AA8: 5 | AB8: 0 | AC8: 0 | AD8: 1 | AE8: 0 | AF8: 1.967057 | AG8: 0 | AH8: 3.6251131 | AJ8: =SUM(AF8,AG8,AH8:AI8) -> 5.5921701 | AK8: =AJ8/AJ8 -> 1 | AL8: 1.7140956 | AM8: 0 | AN8: 0 | AO8: 1.2272304 | AP8: =SUM(AJ8,AL8,AM8,AN8,AO8) -> 8.5334961 | AQ8: =AP8/AP$8 -> 1 | AS8: Estándar
A9: 0 | B9: 1 | C9: 0 | D9: 1 | E9: 0 | F9: 3 | G9: 0 | H9: 1 | I9: =CONCATENATE(A9,B9,C9,D9,E9,F9,G9,H9) -> 01010301 | K9: 70103 | R9: SERAM | T9: PROYEC. ESPECIALES DE TÓRAX: DECÚBITOS, LORDÓTICAS | U9: Mantener | V9: Una adquisición radiográfica adicional de la región torácica para facilitar la delimitación de patologías como el derrame o niveles hidroaéreos (decúbito), detección de patología apical (lordóticas) | W9: PROYEC. ESPECIALES DE TÓRAX: DECÚBITOS, LORDÓTICAS | X9: =AK9 -> 0.94137467 | Y9: =AQ9 -> 0.92810386 | Z9: 5 | AA9: 5 | AB9: 0 | AC9: 0 | AD9: 1 | AE9: 0 | AF9: 1.6392142 | AG9: 0 | AH9: 3.6251131 | AJ9: =SUM(AF9,AG9,AH9:AI9) -> 5.2643273 | AK9: =AJ9/AJ8 -> 0.94137467 | AL9: 1.428413 | AM9: 0 | AN9: 0 | AO9: 1.2272304 | AP9: =SUM(AJ9,AL9,AM9,AN9,AO9) -> 7.9199707 | AQ9: =AP9/AP$8 -> 0.92810386 | AS9: Estándar
A10: 0 | B10: 1 | C10: 0 | D10: 1 | E10: 0 | F10: 4 | G10: 0 | H10: 1 | I10: =CONCATENATE(A10,B10,C10,D10,E10,F10,G10,H10) -> 01010401 | K10: 70106 | R10: SERAM | T10: PARRILLA COSTAL AP Y OBLICUAS | U10: Mantener | V10: Dos adquisiciones radiográficas con distinta oblicuidad colimadas sobre la pared torácica sintomática | W10: PARRILLA COSTAL AP Y OBLICUAS | X10: =AK10 -> 1 | Y10: =AQ10 -> 1 | Z10: 6 | AA10: 5 | AC10: 0 | AD10: 1 | AE10: 0 | AF10: 1.967057 | AG10: 0 | AH10: 3.6251131 | AJ10: =SUM(AF10,AG10,AH10:AI10) -> 5.5921701 | AK10: =AJ10/AJ8 -> 1 | AL10: 1.7140956 | AM10: 0 | AN10: 0 | AO10: 1.2272304 | AP10: =SUM(AJ10,AL10,AM10,AN10,AO10) -> 8.5334961 | AQ10: =AP10/AP$8 -> 1 | AS10: Estándar
A11: 0 | B11: 1 | C11: 0 | D11: 1 | E11: 0 | F11: 5 | G11: 0 | H11: 1 | I11: =CONCATENATE(A11,B11,C11,D11,E11,F11,G11,H11) -> 01010501 | K11: 70113 | R11: SERAM | T11: FLUOROSCOPIA DE TÓRAX | U11: Mantener | V11: Exploración fluoroscópica para visualización del movimiento diafragmático | W11: FLUOROSCOPIA DE TÓRAX | X11: =AK11 -> 1.8827493 | Y11: =AQ11 -> 1.8659604 | Z11: 10 | AA11: 10 | AC11: 0 | AD11: 1 | AE11: 0 | AF11: 3.2784284 | AG11: 0 | AH11: 7.2502262 | AJ11: =SUM(AF11,AG11,AH11:AI11) -> 10.528655 | AK11: =AJ11/AJ$8 -> 1.8827493 | AL11: 4.1672809 | AM11: 0 | AN11: 0 | AO11: 1.2272304 | AP11: =SUM(AJ11,AL11,AM11,AN11,AO11) -> 15.923166 | AQ11: =AP11/AP$8 -> 1.8659604 | AS11: Estándar
I12: =CONCATENATE(A12,B12,C12,D12,E12,F12,G12,H12) | AS12: Estándar
I13: =CONCATENATE(A13,B13,C13,D13,E13,F13,G13,H13) | J13: 50 | R13: SERAM | T13: RADIOLOGÍA DE ABDOMEN | W13: RADIOLOGÍA DE ABDOMEN | AS13: Estándar
A14: 0 | B14: 1 | C14: 0 | D14: 3 | E14: 0 | F14: 1 | G14: 0 | H14: 1 | I14: =CONCATENATE(A14,B14,C14,D14,E14,F14,G14,H14) -> 01030101 | K14: 70501 | L14: 30102 | M14: Radiología simple_tronco | R14: SERAM | T14: ABDOMEN SIMPLE AP | U14: Mantener | V14: Una adquisición radiográfica desde la región diafragmática hasta la sinfisis del pubis en respiración sostenida. | W14: ABDOMEN SIMPLE AP | X14: =AK14 -> 1 | Y14: =AQ14 -> 1 | Z14: 6 | AA14: 5 | AC14: 0 | AD14: 1 | AE14: 0 | AF14: 1.967057 | AG14: 0 | AH14: 3.6251131 | AJ14: =SUM(AF14,AG14,AH14) -> 5.5921701 | AK14: =AJ14/AJ$8 -> 1 | AL14: 1.7140956 | AM14: 0 | AN14: 0 | AO14: 1.2272304 | AP14: =SUM(AJ14,AL14,AM14,AN14,AO14) -> 8.5334961 | AQ14: =AP14/AP$8 -> 1 | AS14: Estándar
A15: 0 | B15: 1 | C15: 0 | D15: 3 | E15: 0 | F15: 2 | G15: 0 | H15: 1 | I15: =CONCATENATE(A15,B15,C15,D15,E15,F15,G15,H15) -> 01030201 | K15: 70502 | L15: 30102 | M15: Radiología simple_tronco | R15: SERAM | T15: ABDOMEN SIMPLE AP Y BIPE O DECÚBITO | U15: Mantener | V15: Dos adquisciones radiográfica incluyendo desde la región diafragmática hasta la sinfisis del pubis en respiración sostenida con el objeto de evaluar la presencia de perforación u obstrucción intestinal. | W15: ABDOMEN SIMPLE AP Y BIPE O DECÚBITO | X15: =AK15 -> 1.351752 | Y15: =AQ15 -> 1.4313768 | Z15: 12 | AA15: 5 | AC15: 0 | AD15: 1 | AE15: 0 | AF15: 3.934114 | AG15: 0 | AH15: 3.6251131 | AJ15: =SUM(AF15,AG15,AH15) -> 7.5592271 | AK15: =AJ15/AJ$8 -> 1.351752 | AL15: 3.4281912 | AM15: 0 | AN15: 0 | AO15: 1.2272304 | AP15: =SUM(AJ15,AL15,AM15,AN15,AO15) -> 12.214649 | AQ15: =AP15/AP$8 -> 1.4313768 | AS15: Estándar
I16: =CONCATENATE(A16,B16,C16,D16,E16,F16,G16,H16) | U16: Mantener | V16: Solicitar CI para Rx en embarazada? | X16: =AK16 -> 0 | Y16: =AQ16 -> 0 | AC16: 0 | AD16: 1 | AE16: 0 | AS16: Estándar
I17: =CONCATENATE(A17,B17,C17,D17,E17,F17,G17,H17) | J17: 20 | R17: SERAM | T17: RADIOLOGÍA DE CRÁNEO Y CARA | W17: RADIOLOGÍA DE CRÁNEO Y CARA | AS17: Estándar
A18: 0 | B18: 1 | C18: 0 | D18: 4 | E18: 0 | F18: 1 | G18: 0 | H18: 1 | I18: =CONCATENATE(A18,B18,C18,D18,E18,F18,G18,H18) -> 01040101 | K18: 70206 | L18: 30101 | M18: Radiología simple_Cabeza | R18: SERAM | T18: CRÁNEO AP Y LAT | U18: Mantener | V18: Dos adquisiciones radiográficas ortogonales colimadas del cráneo | W18: CRÁNEO AP Y LAT | X18: =AK18 -> 1 | Y18: =AQ18 -> 1 | Z18: 6 | AA18: 5 | AC18: 0 | AD18: 1 | AE18: 0 | AF18: 1.967057 | AG18: 0 | AH18: 3.6251131 | AJ18: =SUM(AF18,AG18,AH18) -> 5.5921701 | AK18: =AJ18/AJ$8 -> 1 | AL18: 1.7140956 | AM18: 0 | AN18: 0 | AO18: 1.2272304 | AP18: =SUM(AJ18,AL18,AM18,AN18,AO18) -> 8.5334961 | AQ18: =AP18/AP$8 -> 1 | AS18: Estándar
A19: 0 | B19: 1 | C19: 0 | D19: 4 | E19: 0 | F19: 2 | G19: 0 | H19: 1 | I19: =CONCATENATE(A19,B19,C19,D19,E19,F19,G19,H19) -> 01040201 | K19: 70205 | L19: 30101 | M19: Radiología simple_Cabeza | R19: SERAM | T19: ÓRBITAS Y MACIZO FACIAL | U19: Mantener | V19: Una adquisición radiográfica del área facial | W19: ÓRBITAS Y MACIZO FACIAL | X19: =AK19 -> 1 | Y19: =AQ19 -> 1 | Z19: 6 | AA19: 5 | AC19: 0 | AD19: 1 | AE19: 0 | AF19: 1.967057 | AG19: 0 | AH19: 3.6251131 | AJ19: =SUM(AF19,AG19,AH19) -> 5.5921701 | AK19: =AJ19/AJ$8 -> 1 | AL19: 1.7140956 | AM19: 0 | AN19: 0 | AO19: 1.2272304 | AP19: =SUM(AJ19,AL19,AM19,AN19,AO19) -> 8.5334961 | AQ19: =AP19/AP$8 -> 1 | AS19: Estándar
A20: 0 | B20: 1 | C20: 0 | D20: 4 | E20: 0 | F20: 3 | G20: 0 | H20: 1 | I20: =CONCATENATE(A20,B20,C20,D20,E20,F20,G20,H20) -> 01040301 | K20: 70202 | R20: SERME/SENR | T20: MASTOIDES CUATRO PROYECCIONES | U20: Eliminar | W20: MASTOIDES CUATRO PROYECCIONES | X20: =AK20 -> 1.4690027 | Y20: =AQ20 -> 1.5751691 | Z20: 14 | AA20: 5 | AC20: 0 | AD20: 1 | AE20: 0 | AF20: 4.5897997 | AG20: 0 | AH20: 3.6251131 | AJ20: =SUM(AF20,AG20,AH20) -> 8.2149128 | AK20: =AJ20/AJ$8 -> 1.4690027 | AL20: 3.9995565 | AM20: 0 | AN20: 0 | AO20: 1.2272304 | AP20: =SUM(AJ20,AL20,AM20,AN20,AO20) -> 13.4417 | AQ20: =AP20/AP$8 -> 1.5751691 | AS20: Estándar
A21: 0 | B21: 1 | C21: 0 | D21: 4 | E21: 0 | F21: 4 | G21: 0 | H21: 1 | I21: =CONCATENATE(A21,B21,C21,D21,E21,F21,G21,H21) -> 01040401 | K21: 70203 | L21: 30101 | M21: Radiología simple_Cabeza | R21: SERAM | T21: SENOS PARANASALES | U21: Mantener | V21: Una adquisición radiográfica del área facial con angulación para mejor delimitación de un áreas de los senos paranasales | W21: SENOS PARANASALES | X21: =AK21 -> 1 | Y21: =AQ21 -> 1 | Z21: 6 | AA21: 5 | AC21: 0 | AD21: 1 | AE21: 0 | AF21: 1.967057 | AG21: 0 | AH21: 3.6251131 | AJ21: =SUM(AF21,AG21,AH21) -> 5.5921701 | AK21: =AJ21/AJ$8 -> 1 | AL21: 1.7140956 | AM21: 0 | AN21: 0 | AO21: 1.2272304 | AP21: =SUM(AJ21,AL21,AM21,AN21,AO21) -> 8.5334961 | AQ21: =AP21/AP$8 -> 1 | AS21: Estándar
A22: 0 | B22: 1 | C22: 0 | D22: 4 | E22: 0 | F22: 5 | G22: 0 | H22: 1 | I22: =CONCATENATE(A22,B22,C22,D22,E22,F22,G22,H22) -> 01040501 | K22: 70204 | L22: 30101 | M22: Radiología simple_Cabeza | R22: SERAM | T22: HUESOS PROPIOS DE LA NARIZ | U22: Mantener | V22: Una adquisición radiográfica lateral del área facial | W22: HUESOS PROPIOS DE LA NARIZ | X22: =AK22 -> 0.94137467 | Y22: =AQ22 -> 0.92810386 | Z22: 5 | AA22: 5 | AC22: 0 | AD22: 1 | AE22: 0 | AF22: 1.6392142 | AG22: 0 | AH22: 3.6251131 | AJ22: =SUM(AF22,AG22,AH22) -> 5.2643273 | AK22: =AJ22/AJ$8 -> 0.94137467 | AL22: 1.428413 | AM22: 0 | AN22: 0 | AO22: 1.2272304 | AP22: =SUM(AJ22,AL22,AM22,AN22,AO22) -> 7.9199707 | AQ22: =AP22/AP$8 -> 0.92810386 | AS22: Estándar
A23: 0 | B23: 1 | C23: 0 | D23: 4 | E23: 0 | F23: 6 | G23: 0 | H23: 1 | I23: =CONCATENATE(A23,B23,C23,D23,E23,F23,G23,H23) -> 01040601 | K23: 70201 | L23: 30101 | M23: Radiología simple_Cabeza | R23: SERAM | T23: MANDÍBULA DOS PROYECCIONES | U23: Mantener | V23: Dos adquisiciones radiográficas ortogonales colimadas | W23: MANDÍBULA DOS PROYECCIONES | X23: =AK23 -> 1 | Y23: =AQ23 -> 1 | Z23: 6 | AA23: 5 | AC23: 0 | AD23: 1 | AE23: 0 | AF23: 1.967057 | AG23: 0 | AH23: 3.6251131 | AJ23: =SUM(AF23,AG23,AH23) -> 5.5921701 | AK23: =AJ23/AJ$8 -> 1 | AL23: 1.7140956 | AM23: 0 | AN23: 0 | AO23: 1.2272304 | AP23: =SUM(AJ23,AL23,AM23,AN23,AO23) -> 8.5334961 | AQ23: =AP23/AP$8 -> 1 | AS23: Estándar
A24: 0 | B24: 1 | C24: 0 | D24: 4 | E24: 0 | F24: 7 | G24: 0 | H24: 1 | I24: =CONCATENATE(A24,B24,C24,D24,E24,F24,G24,H24) -> 01040701 | K24: 70207 | L24: 30101 | M24: Radiología simple_Cabeza | R24: SERAM | T24: ARTICULACIÓN TEMPOROMANDIBULAR (BA/BC) BILATERAL | U24: Mantener | V24: Dos adquisiciones radiográficas colimadas sobre la respectiva articulación temporomandibular (ATM) en situación de apertura bucal (BA) o de cierre bucal (BC) | W24: ARTICULACIÓN TEMPOROMANDIBULAR (BA/BC) BILATERAL | X24: =AK24 -> 1 | Y24: =AQ24 -> 1 | Z24: 6 | AA24: 5 | AC24: 0 | AD24: 1 | AE24: 0 | AF24: 1.967057 | AG24: 0 | AH24: 3.6251131 | AJ24: =SUM(AF24,AG24,AH24) -> 5.5921701 | AK24: =AJ24/AJ$8 -> 1 | AL24: 1.7140956 | AM24: 0 | AN24: 0 | AO24: 1.2272304 | AP24: =SUM(AJ24,AL24,AM24,AN24,AO24) -> 8.5334961 | AQ24: =AP24/AP$8 -> 1 | AS24: Estándar
A25: 0 | B25: 1 | C25: 0 | D25: 4 | E25: 0 | F25: 8 | G25: 0 | H25: 1 | I25: =CONCATENATE(A25,B25,C25,D25,E25,F25,G25,H25) -> 01040801 | K25: 70215 | L25: 30101 | M25: Radiología simple_Cabeza | R25: SERAM | T25: CUELLO PARTES BLANDAS / CAVUM | U25: Mantener | V25: Una adquisición radiográfica lateral del cuello con ajuste técnico para delmitación de partes blandas | W25: CUELLO PARTES BLANDAS/ CAVUM | X25: =AK25 -> 1 | Y25: =AQ25 -> 1 | Z25: 6 | AA25: 5 | AC25: 0 | AD25: 1 | AE25: 0 | AF25: 1.967057 | AG25: 0 | AH25: 3.6251131 | AJ25: =SUM(AF25,AG25,AH25) -> 5.5921701 | AK25: =AJ25/AJ$8 -> 1 | AL25: 1.7140956 | AM25: 0 | AN25: 0 | AO25: 1.2272304 | AP25: =SUM(AJ25,AL25,AM25,AN25,AO25) -> 8.5334961 | AQ25: =AP25/AP$8 -> 1 | AS25: Estándar
I26: =CONCATENATE(A26,B26,C26,D26,E26,F26,G26,H26) | AS26: Estándar
I27: =CONCATENATE(A27,B27,C27,D27,E27,F27,G27,H27) | J27: 21 | R27: SERAM | T27: ORTOPANTOMOGRAFÍA Y CEFALOMETRÍA | W27: ORTOPANTOMOGRAFÍA CEFALOMETRÍA | AS27: Estándar
A28: 0 | B28: 1 | C28: 0 | D28: 4 | E28: 0 | F28: 9 | G28: 0 | H28: 1 | I28: =CONCATENATE(A28,B28,C28,D28,E28,F28,G28,H28) -> 01040901 | K28: 70211 | R28: SERAM | T28: ORTOPANTOMOGRAFÍA | U28: Mantener | V28: Una adquisción radiográfica panorámica que incluye la totalidad de la mandibula, dentadura y porcion adyacente de los senos maxilares | W28: ORTOPANTOMOGRAFÍA | X28: =AK28 -> 1.1172507 | Y28: =AQ28 -> 0.9644247 | Z28: 8 | AA28: 5 | AC28: 0 | AD28: 1 | AE28: 0 | AF28: 2.6227427 | AG28: 0 | AH28: 3.6251131 | AJ28: =SUM(AF28,AG28,AH28) -> 6.2478558 | AK28: =AJ28/AJ$8 -> 1.1172507 | AL28: 0.75482825 | AM28: 0 | AN28: 0 | AO28: 1.2272304 | AP28: =SUM(AJ28,AL28,AM28,AN28,AO28) -> 8.2299144 | AQ28: =AP28/AP$8 -> 0.9644247 | AS28: Estándar
A29: 0 | B29: 1 | C29: 0 | D29: 4 | E29: 1 | F29: 0 | G29: 0 | H29: 1 | I29: =CONCATENATE(A29,B29,C29,D29,E29,F29,G29,H29) -> 01041001 | K29: 70212 | R29: SERAM | T29: CEFALOMETRÍA | U29: Mantener | V29: Una adquisición radiográfica en proyección lateral de la región cráneo facial completa y sinclítica para delimitación de medidas de referencia entre estructuras anatómicas. | W29: CEFALOMETRÍA | X29: =AK29 -> 1.1172507 | Y29: =AQ29 -> 0.9644247 | Z29: 8 | AA29: 5 | AC29: 0 | AD29: 1 | AE29: 0 | AF29: 2.6227427 | AG29: 0 | AH29: 3.6251131 | AJ29: =SUM(AF29,AG29,AH29) -> 6.2478558 | AK29: =AJ29/AJ$8 -> 1.1172507 | AL29: 0.75482825 | AM29: 0 | AN29: 0 | AO29: 1.2272304 | AP29: =SUM(AJ29,AL29,AM29,AN29,AO29) -> 8.2299144 | AQ29: =AP29/AP$8 -> 0.9644247 | AS29: Estándar
A30: 0 | B30: 1 | C30: 0 | D30: 4 | E30: 1 | F30: 1 | G30: 0 | H30: 1 | I30: =CONCATENATE(A30,B30,C30,D30,E30,F30,G30,H30) -> 01041101 | K30: 70213 | R30: SERAM | T30: DENTAL INDIVIDUAL, INTRABUCAL | U30: Mantener | V30: Una adquisición radiográfica sobre una pieza dental de referencia. | W30: DENTAL INDIVIDUAL, INTRABUCAL | X30: =AK30 -> 1.1172507 | Y30: =AQ30 -> 0.9644247 | Z30: 8 | AA30: 5 | AC30: 0 | AD30: 1 | AE30: 0 | AF30: 2.6227427 | AG30: 0 | AH30: 3.6251131 | AJ30: =SUM(AF30,AG30,AH30) -> 6.2478558 | AK30: =AJ30/AJ$8 -> 1.1172507 | AL30: 0.75482825 | AM30: 0 | AN30: 0 | AO30: 1.2272304 | AP30: =SUM(AJ30,AL30,AM30,AN30,AO30) -> 8.2299144 | AQ30: =AP30/AP$8 -> 0.9644247 | AS30: Estándar
AS31: Estándar
R32: SENR | T32: TC HAZ CONico (CBCT) | AS32: Estándar
A33: 0 | B33: 1 | C33: 0 | D33: 9 | E33: 0 | F33: 5 | G33: 0 | H33: 1 | R33: SENR | T33: CBCT OTRA ANATOMÍA | U33: Incluir | V33: 1 serie de imágenes obtenidas con tomografía de haz cónico en una región anatómica determinada que permite su reconstrucción multiplanar | W33: CBCT OTRA ANATOMÍA | Z33: Pedir SENR | AA33: Pedir SENR | AC33: 0 | AD33: 1 | AE33: 0 | AS33: Estándar
R34: SENR | T34: CBCT FACIAL/SENOS | U34: Incluir | V34: 1 serie de imágenes obtenidas con tomografía de haz cónico en la región facial que permite su reconstrucción multiplanar | W34: CBCT FACIAL/SENOS | Z34: Pedir SENR | AA34: Pedir SENR | AC34: 0 | AD34: 1 | AE34: 0 | AS34: Estándar
R35: SENR | T35: CBCT PEÑASCO | U35: Incluir | V35: 1 serie de imágenes obtenidas con tomografía de haz cónico en la base de cráneo para estudio del hueso temporal y que permite su reconstrucción multiplanar | W35: CBCT PEÑASCO | Z35: Pedir SENR | AA35: Pedir SENR | AC35: 0 | AD35: 1 | AE35: 0 | AS35: Estándar
R36: SENR | T36: CBCT maxilar/mandibular/ATM | U36: Incluir | V36: 1 serie de imágenes obtenidas con tomografía de haz cónico en la región maxilar/mandibular y que permite su reconstrucción multiplanar | W36: CBCT maxilar/mandibular/ATM | Z36: Pedir SENR | AA36: Pedir SENR | AC36: 0 | AD36: 1 | AE36: 0 | AS36: Estándar
AS37: Estándar
I38: =CONCATENATE(A38,B38,C38,D38,E38,F38,G38,H38)
I39: =CONCATENATE(A39,B39,C39,D39,E39,F39,G39,H39) | J39: 30 | R39: SERAM | T39: RADIOLOGÍA DE COLUMNA | W39: RADIOLOGÍA DE COLUMNA | AS39: Estándar
A40: 0 | B40: 1 | C40: 0 | D40: 5 | E40: 0 | F40: 1 | G40: 0 | H40: 1 | I40: =CONCATENATE(A40,B40,C40,D40,E40,F40,G40,H40) -> 01050101 | K40: 70208 | L40: 30102 | M40: Radiología simple_tronco | R40: SERAM | T40: COLUMNA CERVICAL AP Y LAT | U40: Mantener | V40: Dos adquisiciones radiográficas ortogonales (AP/LAT) colimadas obtenidas sobre la columna cervical | W40: COLUMNA CERVICAL AP Y LAT. | X40: =AK40 -> 1 | Y40: =AQ40 -> 1 | Z40: 6 | AA40: 5 | AC40: 0 | AD40: 1 | AE40: 0 | AF40: 1.967057 | AG40: 0 | AH40: 3.6251131 | AJ40: =SUM(AF40,AG40,AH40) -> 5.5921701 | AK40: =AJ40/AJ$8 -> 1 | AL40: 1.7140956 | AM40: 0 | AN40: 0 | AO40: 1.2272304 | AP40: =SUM(AJ40,AL40,AM40,AN40,AO40) -> 8.5334961 | AQ40: =AP40/AP$8 -> 1 | AS40: Estándar
...

Sheet Radiología simple.
A1: REVISADA
J2: CATÁLOGO PRUEBAS Y PROCEDIMIENTOS SERAM 2024
I3: =CONCATENATE(A3,B3,C3,D3,E3,F3,G3,H3) | M3: RADIOLOGÍA SIMPLE | AV3: 2015 | BH3: 2024
A4: N1 Técnica | C4: N2 Órgano | E4: N3 Prueba | G4: N4 Procedimiento | I4: COD 2015 | J4: Código 2024 | K4: SEC. PROPONE | L4: PRUEBA | M4: PROCEDIMIENTO | N4: DECISION | O4: DESCRIPCION PROCEDIMIENTO | P4: EXPLORACIONES | Q4: UAR 2016 | R4: UAR 2024 | S4: URV 2016 | T4: URV 2024 | U4: TOS 2016 | V4: TOS 2024 | W4: Tl | X4: Ts/d | Y4: Tc | Z4: Taib | AA4: Taia | AB4: Tp | AC4: TOS 2016 | AD4: TM 2016 | AE4: TM 2024 | AF4: Tl | AG4: Tpl | AH4: Tib | AI4: Tia | AJ4: Tcomp | AK4: Tp | AL4: Tacp | AM4: Tdf | AO4: CAL. TIEMPO TOTAL | AP4: UAR 2024 | AQ4: INDICE COMPLEJIDAD | AR4: Nº FE ADQ | AS4: Nº DUE | AT4: Nº TSID | AU4: Nº TCAE | AV4: Coste TER | AW4: Coste DUE | AX4: Coste médico | AY4: Coste TCAE | AZ4: Coste total personal | BA4: UAR | BB4: Coste equipos | BC4: Coste contraste | BD4: Coste fungible | BE4: Coste PACS | BF4: Coste total | BG4: URV | BH4: Coste TER | BI4: Coste DUE | BJ4: Coste médico | BK4: Coste TCAE | BL4: Coste total personal | BM4: URA | BN4: Coste equipos | BO4: Coste contraste | BP4: Coste fungible | BQ4: Coste PACS | BR4: Coste total | BS4: URV
I5: =CONCATENATE(A5,B5,C5,D5,E5,F5,G5,H5) | AO5: Tper x nº per | AR5: Participantes de la plantilla de Sº Radiología
K6: SERAM | L6: RADIOLOGÍA DE TÓRAX | P6: RADIOLOGÍA DE TÓRAX
A7: 0 | B7: 1 | C7: 0 | D7: 1 | E7: 0 | F7: 1 | G7: 0 | H7: 1 | I7: =CONCATENATE(A7,B7,C7,D7,E7,F7,G7,H7) -> 01010101 | J7: =CONCATENATE(A7,B7,C7,D7,E7,F7,G7,H7) -> 01010101 | K7: SERAM | L7: TÓRAX PA (1P) | N7: Mantener | O7: Una adquisción radiográfica colimada de la región torácica en bipedestación e inspiración máxima. En el caso de maniobra de espiración para detección de nuemotórax/atrapamiento aéreo debe marcarse sobre la imagen. | P7: TÓRAX, PA | Q7: 0.9 | R7: =AP7 -> 0.83333333 | S7: 0.92810386 | T7: PTE. | U7: 5 | V7: =SUM(W7:AB7) -> 5 | W7: 3 | X7: 0 | Y7: 0 | Z7: 1 | AA7: 0 | AB7: 1 | AC7: 5'''''' | AD7: 5 | AE7: =SUM(AF7:AM7) -> 5 | AF7: 1 | AG7: 0 | AH7: 3 | AI7: 0 | AJ7: 0 | AK7: 0 | AL7: 0 | AM7: 1 | AO7: =(V7*AT7)+(AE7*AR7) -> 10 | AP7: =AO7/AO8 -> 0.83333333 | AQ7: {=_xlfn.IFS(AP7<4,"estandar",AP7>9,"compleja",AP7>4,"avanzada")} -> estandar | AR7: 1 | AS7: 0 | AT7: 1 | AU7: 0 | AV7: 1.6392142 | AW7: 0 | AX7: 3.6251131 | AZ7: =SUM(AV7,AW7,AX7:AY7) -> 5.2643273 | BA7: =AZ7/AZ$8 -> 0.94137467 | BB7: 1.428413 | BC7: 0 | BD7: 0 | BE7: 1.2272304 | BF7: =SUM(AZ7,BB7,BC7,BD7,BE7) -> 7.9199707 | BG7: =BF7/BF$8 -> 0.92810386 | BL7: =SUM(BH7:BK7) -> 0 | BM7: =BL7/BL$8 -> #DIV/0! | BR7: =SUM(BL7,BN7,BO7,BP7,BQ7) -> 0 | BS7: =BR7/BR$8 -> #DIV/0!
A8: 0 | B8: 1 | C8: 0 | D8: 1 | E8: 0 | F8: 2 | G8: 0 | H8: 1 | I8: =CONCATENATE(A8,B8,C8,D8,E8,F8,G8,H8) -> 01010201 | J8: =CONCATENATE(A8,B8,C8,D8,E8,F8,G8,H8) -> 01010201 | K8: SERAM | L8: TÓRAX PA Y LAT (2P) | N8: Mantener | O8: Dos adquisicionesradiográficas ortogonales colimadas de la región torácica tomadas en bipedstación e inspiración máxima | P8: TÓRAX, PA Y LAT | Q8: 1 | R8: =AP8 -> 1 | S8: 1 | T8: PTE. | U8: 6 | V8: =SUM(W8:AB8) -> 6 | W8: 3 | X8: 0 | Y8: 0 | Z8: 1 | AA8: 1 | AB8: 1 | AC8: 6'''''' | AD8: 5 | AE8: =SUM(AF8:AM8) -> 6 | AF8: 1 | AG8: 0 | AH8: 3 | AI8: 1 | AJ8: 0 | AK8: 0 | AL8: 0 | AM8: 1 | AO8: =(V8*AT8)+(AE8*AR8) -> 12 | AP8: =AO8/AO$8 -> 1 | AQ8: {=_xlfn.IFS(AP8<4,"estandar",AP8>9,"compleja",AP8>4,"avanzada")} -> estandar | AR8: 1 | AS8: 0 | AT8: 1 | AU8: 0 | AV8: 1.967057 | AW8: 0 | AX8: 3.6251131 | AZ8: =SUM(AV8,AW8,AX8:AY8) -> 5.5921701 | BA8: =AZ8/AZ8 -> 1 | BB8: 1.7140956 | BC8: 0 | BD8: 0 | BE8: 1.2272304 | BF8: =SUM(AZ8,BB8,BC8,BD8,BE8) -> 8.5334961 | BG8: =BF8/BF$8 -> 1 | BL8: =SUM(BH8:BK8) -> 0 | BM8: =BL8/BL8 -> #DIV/0! | BR8: =SUM(BL8,BN8,BO8,BP8,BQ8) -> 0 | BS8: =BR8/BR$8 -> #DIV/0!
A9: 0 | B9: 1 | C9: 0 | D9: 1 | E9: 0 | F9: 3 | G9: 0 | H9: 1 | I9: =CONCATENATE(A9,B9,C9,D9,E9,F9,G9,H9) -> 01010301 | J9: =CONCATENATE(A9,B9,C9,D9,E9,F9,G9,H9) -> 01010301 | K9: SERAM | L9: PROYEC. ESPECIALES DE TÓRAX: DECÚBITOS, LORDÓTICAS (1P) | N9: Mantener | O9: Una adquisición radiográfica adicional de la región torácica para facilitar la delimitación de patologías como el derrame o niveles hidroaéreos (decúbito), detección de patología apical (lordóticas) | P9: PROYEC. ESPECIALES DE TÓRAX: DECÚBITOS, LORDÓTICAS | Q9: 0.94137467 | R9: =AP9 -> 0.83333333 | S9: 0.92810386 | T9: PTE. | U9: 5 | V9: =SUM(W9:AB9) -> 5 | W9: 3 | X9: 0 | Y9: 0 | Z9: 1 | AA9: 0 | AB9: 1 | AC9: 5'''''' | AD9: 5 | AE9: =SUM(AF9:AM9) -> 5 | AF9: 1 | AG9: 0 | AH9: 3 | AI9: 0 | AJ9: 0 | AK9: 0 | AL9: 0 | AM9: 1 | AO9: =(V9*AT9)+(AE9*AR9) -> 10 | AP9: =AO9/AO$8 -> 0.83333333 | AQ9: {=_xlfn.IFS(AP9<4,"estandar",AP9>9,"compleja",AP9>4,"avanzada")} -> estandar | AR9: 1 | AS9: 0 | AT9: 1 | AU9: 0 | AV9: 1.6392142 | AW9: 0 | AX9: 3.6251131 | AZ9: =SUM(AV9,AW9,AX9:AY9) -> 5.2643273 | BA9: =AZ9/AZ8 -> 0.94137467 | BB9: 1.428413 | BC9: 0 | BD9: 0 | BE9: 1.2272304 | BF9: =SUM(AZ9,BB9,BC9,BD9,BE9) -> 7.9199707 | BG9: =BF9/BF$8 -> 0.92810386 | BL9: =SUM(BH9:BK9) -> 0 | BM9: =BL9/BL8 -> #DIV/0! | BR9: =SUM(BL9,BN9,BO9,BP9,BQ9) -> 0 | BS9: =BR9/BR$8 -> #DIV/0!
A10: 0 | B10: 1 | C10: 0 | D10: 1 | E10: 0 | F10: 4 | G10: 0 | H10: 1 | I10: =CONCATENATE(A10,B10,C10,D10,E10,F10,G10,H10) -> 01010401 | J10: =CONCATENATE(A10,B10,C10,D10,E10,F10,G10,H10) -> 01010401 | K10: SERAM | L10: PARRILLA COSTAL AP Y OBLICUAS (2P) | N10: Mantener | O10: Dos adquisiciones radiográficas con distinta oblicuidad colimadas sobre la pared torácica sintomática | P10: PARRILLA COSTAL AP Y OBLICUAS | Q10: 1 | R10: =AP10 -> 1 | S10: 1 | T10: PTE. | U10: 6 | V10: =SUM(W10:AB10) -> 6 | W10: 3 | X10: 0 | Y10: 0 | Z10: 1 | AA10: 1 | AB10: 1 | AC10: 6'''''' | AD10: 5 | AE10: =SUM(AF10:AM10) -> 6 | AF10: 1 | AG10: 0 | AH10: 3 | AI10: 1 | AJ10: 0 | AK10: 0 | AL10: 0 | AM10: 1 | AO10: =(V10*AT10)+(AE10*AR10) -> 12 | AP10: =AO10/AO$8 -> 1 | AR10: 1 | AS10: 0 | AT10: 1 | AU10: 0 | AV10: 1.967057 | AW10: 0 | AX10: 3.6251131 | AZ10: =SUM(AV10,AW10,AX10:AY10) -> 5.5921701 | BA10: =AZ10/AZ8 -> 1 | BB10: 1.7140956 | BC10: 0 | BD10: 0 | BE10: 1.2272304 | BF10: =SUM(AZ10,BB10,BC10,BD10,BE10) -> 8.5334961 | BG10: =BF10/BF$8 -> 1 | BL10: =SUM(BH10:BK10) -> 0 | BM10: =BL10/BL8 -> #DIV/0! | BR10: =SUM(BL10,BN10,BO10,BP10,BQ10) -> 0 | BS10: =BR10/BR$8 -> #DIV/0!
A11: 0 | B11: 1 | C11: 0 | D11: 1 | E11: 0 | F11: 5 | G11: 0 | H11: 1 | I11: =CONCATENATE(A11,B11,C11,D11,E11,F11,G11,H11) -> 01010501 | J11: =CONCATENATE(A11,B11,C11,D11,E11,F11,G11,H11) -> 01010501 | K11: SERAM | L11: FLUOROSCOPIA DE TÓRAX | N11: Mantener | O11: Exploración fluoroscópica para visualización del movimiento diafragmático | P11: FLUOROSCOPIA DE TÓRAX | Q11: 1.8827493 | R11: =AP11 -> 0.83333333 | S11: 1.8659604 | T11: PTE. | U11: 5 | V11: =SUM(W11:AB11) -> 5 | W11: 3 | X11: 0 | Y11: 0 | Z11: 2 | AA11: 0 | AB11: 0 | AC11: 5'''''' | AD11: 10 | AE11: =SUM(AF11:AM11) -> 5 | AF11: 1 | AG11: 0 | AH11: 3 | AI11: 0 | AJ11: 0 | AK11: 0 | AL11: 0 | AM11: 1 | AO11: =(V11*AT11)+(AE11*AR11) -> 10 | AP11: =AO11/AO$8 -> 0.83333333 | AQ11: {=_xlfn.IFS(AP11<4,"estandar",AP11>9,"compleja",AP11>4,"avanzada")} -> estandar | AR11: 1 | AS11: 0 | AT11: 1 | AU11: 0 | AV11: 3.2784284 | AW11: 0 | AX11: 7.2502262 | AZ11: =SUM(AV11,AW11,AX11:AY11) -> 10.528655 | BA11: =AZ11/AZ$8 -> 1.8827493 | BB11: 4.1672809 | BC11: 0 | BD11: 0 | BE11: 1.2272304 | BF11: =SUM(AZ11,BB11,BC11,BD11,BE11) -> 15.923166 | BG11: =BF11/BF$8 -> 1.8659604 | BL11: =SUM(BH11:BK11) -> 0 | BM11: =BL11/BL$8 -> #DIV/0! | BR11: =SUM(BL11,BN11,BO11,BP11,BQ11) -> 0 | BS11: =BR11/BR$8 -> #DIV/0!
I12: =CONCATENATE(A12,B12,C12,D12,E12,F12,G12,H12)
K13: SERAM | L13: RADIOLOGÍA DE ABDOMEN | P13: RADIOLOGÍA DE ABDOMEN
A14: 0 | B14: 1 | C14: 0 | D14: 3 | E14: 0 | F14: 1 | G14: 0 | H14: 1 | I14: =CONCATENATE(A14,B14,C14,D14,E14,F14,G14,H14) -> 01030101 | J14: =CONCATENATE(A14,B14,C14,D14,E14,F14,G14,H14) -> 01030101 | K14: SERAM | L14: ABDOMEN SIMPLE AP (1P) | N14: Mantener | O14: Una adquisición radiográfica desde la región diafragmática hasta la sinfisis del pubis en respiración sostenida. | P14: ABDOMEN SIMPLE AP | Q14: 1 | R14: =AP14 -> 0.83333333 | S14: 1 | T14: PTE. | U14: 6 | V14: =SUM(W14:AB14) -> 5 | W14: 3 | X14: 0 | Y14: 0 | Z14: 1 | AA14: 0 | AB14: 1 | AC14: 6'''''' | AD14: 5 | AE14: =SUM(AF14:AM14) -> 5 | AF14: 1 | AG14: 0 | AH14: 3 | AI14: 0 | AJ14: 0 | AK14: 0 | AL14: 0 | AM14: 1 | AO14: =(V14*AT14)+(AE14*AR14) -> 10 | AP14: =AO14/AO$8 -> 0.83333333 | AQ14: {=_xlfn.IFS(AP14<4,"estandar",AP14>9,"compleja",AP14>4,"avanzada")} -> estandar | AR14: 1 | AS14: 0 | AT14: 1 | AU14: 0 | AV14: 1.967057 | AW14: 0 | AX14: 3.6251131 | AZ14: =SUM(AV14,AW14,AX14) -> 5.5921701 | BA14: =AZ14/AZ$8 -> 1 | BB14: 1.7140956 | BC14: 0 | BD14: 0 | BE14: 1.2272304 | BF14: =SUM(AZ14,BB14,BC14,BD14,BE14) -> 8.5334961 | BG14: =BF14/BF$8 -> 1 | BL14: =SUM(BH14,BI14,BJ14) -> 0 | BM14: =BL14/BL$8 -> #DIV/0! | BR14: =SUM(BL14,BN14,BO14,BP14,BQ14) -> 0 | BS14: =BR14/BR$8 -> #DIV/0!
A15: 0 | B15: 1 | C15: 0 | D15: 3 | E15: 0 | F15: 2 | G15: 0 | H15: 1 | I15: =CONCATENATE(A15,B15,C15,D15,E15,F15,G15,H15) -> 01030201 | J15: =CONCATENATE(A15,B15,C15,D15,E15,F15,G15,H15) -> 01030201 | K15: SERAM | L15: ABDOMEN SIMPLE AP Y BIPE O DECÚBITO (2P) | N15: Mantener | O15: Dos adquisciones radiográfica incluyendo desde la región diafragmática hasta la sinfisis del pubis en respiración sostenida con el objeto de evaluar la presencia de perforación u obstrucción intestinal. | P15: ABDOMEN SIMPLE AP Y BIPE O DECÚBITO | Q15: 1.351752 | R15: =AP15 -> 1 | S15: 1.4313768 | T15: PTE. | U15: 12 | V15: =SUM(W15:AB15) -> 6 | W15: 3 | X15: 0 | Y15: 0 | Z15: 1 | AA15: 1 | AB15: 1 | AC15: 12'''''' | AD15: 5 | AE15: =SUM(AF15:AM15) -> 6 | AF15: 1 | AG15: 0 | AH15: 3 | AI15: 1 | AJ15: 0 | AK15: 0 | AL15: 0 | AM15: 1 | AO15: =(V15*AT15)+(AE15*AR15) -> 12 | AP15: =AO15/AO$8 -> 1 | AQ15: {=_xlfn.IFS(AP15<4,"estandar",AP15>9,"compleja",AP15>4,"avanzada")} -> estandar | AR15: 1 | AS15: 0 | AT15: 1 | AU15: 0 | AV15: 3.934114 | AW15: 0 | AX15: 3.6251131 | AZ15: =SUM(AV15,AW15,AX15) -> 7.5592271 | BA15: =AZ15/AZ$8 -> 1.351752 | BB15: 3.4281912 | BC15: 0 | BD15: 0 | BE15: 1.2272304 | BF15: =SUM(AZ15,BB15,BC15,BD15,BE15) -> 12.214649 | BG15: =BF15/BF$8 -> 1.4313768 | BL15: =SUM(BH15,BI15,BJ15) -> 0 | BM15: =BL15/BL$8 -> #DIV/0! | BR15: =SUM(BL15,BN15,BO15,BP15,BQ15) -> 0 | BS15: =BR15/BR$8 -> #DIV/0!
I16: =CONCATENATE(A16,B16,C16,D16,E16,F16,G16,H16) | AR16: 1 | AS16: 0 | AT16: 1 | AU16: 0
K17: SERAM | L17: RADIOLOGÍA DE CRÁNEO Y CARA | P17: RADIOLOGÍA DE CRÁNEO Y CARA
A18: 0 | B18: 1 | C18: 0 | D18: 4 | E18: 0 | F18: 1 | G18: 0 | H18: 1 | I18: =CONCATENATE(A18,B18,C18,D18,E18,F18,G18,H18) -> 01040101 | J18: =CONCATENATE(A18,B18,C18,D18,E18,F18,G18,H18) -> 01040101 | K18: SERAM | L18: CRÁNEO AP Y LAT (2P) | N18: Mantener | O18: Dos adquisiciones radiográficas ortogonales colimadas del cráneo | P18: CRÁNEO AP Y LAT | Q18: 1 | R18: =AP18 -> 0.91666667 | S18: 1 | T18: PTE. | U18: 6 | V18: =SUM(W18:AB18) -> 6 | W18: 3 | X18: 0 | Y18: 0 | Z18: 1 | AA18: 1 | AB18: 1 | AC18: 6'''''' | AD18: 5 | AE18: =SUM(AF18:AM18) -> 5 | AF18: 1 | AG18: 0 | AH18: 3 | AI18: 0 | AJ18: 0 | AK18: 0 | AL18: 0 | AM18: 1 | AO18: =(V18*AT18)+(AE18*AR18) -> 11 | AP18: =AO18/AO$8 -> 0.91666667 | AQ18: {=_xlfn.IFS(AP18<4,"estandar",AP18>9,"compleja",AP18>4,"avanzada")} -> estandar | AR18: 1 | AS18: 0 | AT18: 1 | AU18: 0 | AV18: 1.967057 | AW18: 0 | AX18: 3.6251131 | AZ18: =SUM(AV18,AW18,AX18) -> 5.5921701 | BA18: =AZ18/AZ$8 -> 1 | BB18: 1.7140956 | BC18: 0 | BD18: 0 | BE18: 1.2272304 | BF18: =SUM(AZ18,BB18,BC18,BD18,BE18) -> 8.5334961 | BG18: =BF18/BF$8 -> 1 | BL18: =SUM(BH18,BI18,BJ18) -> 0 | BM18: =BL18/BL$8 -> #DIV/0! | BR18: =SUM(BL18,BN18,BO18,BP18,BQ18) -> 0 | BS18: =BR18/BR$8 -> #DIV/0!
A19: 0 | B19: 1 | C19: 0 | D19: 4 | E19: 0 | F19: 2 | G19: 0 | H19: 1 | I19: =CONCATENATE(A19,B19,C19,D19,E19,F19,G19,H19) -> 01040201 | J19: =CONCATENATE(A19,B19,C19,D19,E19,F19,G19,H19) -> 01040201 | K19: SERAM | L19: ÓRBITAS Y MACIZO FACIAL (1P) | N19: Mantener | O19: Una adquisición radiográfica del área facial | P19: ÓRBITAS Y MACIZO FACIAL | Q19: 1 | R19: =AP19 -> 0.83333333 | S19: 1 | T19: PTE. | U19: 6 | V19: =SUM(W19:AB19) -> 5 | W19: 3 | X19: 0 | Y19: 0 | Z19: 1 | AA19: 0 | AB19: 1 | AC19: 6'''''' | AD19: 5 | AE19: =SUM(AF19:AM19) -> 5 | AF19: 1 | AG19: 0 | AH19: 3 | AI19: 0 | AJ19: 0 | AK19: 0 | AL19: 0 | AM19: 1 | AO19: =(V19*AT19)+(AE19*AR19) -> 10 | AP19: =AO19/AO$8 -> 0.83333333 | AQ19: {=_xlfn.IFS(AP19<4,"estandar",AP19>9,"compleja",AP19>4,"avanzada")} -> estandar | AR19: 1 | AS19: 0 | AT19: 1 | AU19: 0 | AV19: 1.967057 | AW19: 0 | AX19: 3.6251131 | AZ19: =SUM(AV19,AW19,AX19) -> 5.5921701 | BA19: =AZ19/AZ$8 -> 1 | BB19: 1.7140956 | BC19: 0 | BD19: 0 | BE19: 1.2272304 | BF19: =SUM(AZ19,BB19,BC19,BD19,BE19) -> 8.5334961 | BG19: =BF19/BF$8 -> 1 | BL19: =SUM(BH19,BI19,BJ19) -> 0 | BM19: =BL19/BL$8 -> #DIV/0! | BR19: =SUM(BL19,BN19,BO19,BP19,BQ19) -> 0 | BS19: =BR19/BR$8 -> #DIV/0!
A20: 0 | B20: 1 | C20: 0 | D20: 4 | E20: 0 | F20: 3 | G20: 0 | H20: 1 | I20: =CONCATENATE(A20,B20,C20,D20,E20,F20,G20,H20) -> 01040301 | J20: =CONCATENATE(A20,B20,C20,D20,E20,F20,G20,H20) -> 01040301 | K20: SERME/SENR | L20: MASTOIDES CUATRO PROYECCIONES | N20: Eliminar | P20: MASTOIDES CUATRO PROYECCIONES | V20: =SUM(W20:AB20) -> 0 | AC20: 6'''''' | AO20: =(V20*AT20)+(AE20*AR20) -> 0 | AP20: =AO20/AO$8 -> 0 | AS20: 0 | AT20: 1 | AU20: 0 | AV20: 4.5897997 | AW20: 0 | AX20: 3.6251131 | AZ20: =SUM(AV20,AW20,AX20) -> 8.2149128 | BA20: =AZ20/AZ$8 -> 1.4690027 | BB20: 3.9995565 | BC20: 0 | BD20: 0 | BE20: 1.2272304 | BF20: =SUM(AZ20,BB20,BC20,BD20,BE20) -> 13.4417 | BG20: =BF20/BF$8 -> 1.5751691 | BL20: =SUM(BH20,BI20,BJ20) -> 0 | BM20: =BL20/BL$8 -> #DIV/0! | BR20: =SUM(BL20,BN20,BO20,BP20,BQ20) -> 0 | BS20: =BR20/BR$8 -> #DIV/0!
A21: 0 | B21: 1 | C21: 0 | D21: 4 | E21: 0 | F21: 4 | G21: 0 | H21: 1 | I21: =CONCATENATE(A21,B21,C21,D21,E21,F21,G21,H21) -> 01040401 | J21: =CONCATENATE(A21,B21,C21,D21,E21,F21,G21,H21) -> 01040401 | K21: SERAM | L21: SENOS PARANASALES (1P) | N21: Mantener | O21: Una adquisición radiográfica del área facial con angulación para mejor delimitación de un áreas de los senos paranasales | P21: SENOS PARANASALES | Q21: 1 | R21: =AP21 -> 0.83333333 | S21: 1 | T21: PTE. | U21: 6 | V21: =SUM(W21:AB21) -> 5 | W21: 3 | X21: 0 | Y21: 0 | Z21: 0 | AA21: 1 | AB21: 1 | AC21: 5'''''' | AD21: 5 | AE21: =SUM(AF21:AM21) -> 5 | AF21: 1 | AG21: 0 | AH21: 3 | AI21: 0 | AJ21: 0 | AK21: 0 | AL21: 0 | AM21: 1 | AO21: =(V21*AT21)+(AE21*AR21) -> 10 | AP21: =AO21/AO$8 -> 0.83333333 | AQ21: {=_xlfn.IFS(AP21<4,"estandar",AP21>9,"compleja",AP21>4,"avanzada")} -> estandar | AR21: 1 | AS21: 0 | AT21: 1 | AU21: 0 | AV21: 1.967057 | AW21: 0 | AX21: 3.6251131 | AZ21: =SUM(AV21,AW21,AX21) -> 5.5921701 | BA21: =AZ21/AZ$8 -> 1 | BB21: 1.7140956 | BC21: 0 | BD21: 0 | BE21: 1.2272304 | BF21: =SUM(AZ21,BB21,BC21,BD21,BE21) -> 8.5334961 | BG21: =BF21/BF$8 -> 1 | BL21: =SUM(BH21,BI21,BJ21) -> 0 | BM21: =BL21/BL$8 -> #DIV/0! | BR21: =SUM(BL21,BN21,BO21,BP21,BQ21) -> 0 | BS21: =BR21/BR$8 -> #DIV/0!
A22: 0 | B22: 1 | C22: 0 | D22: 4 | E22: 0 | F22: 5 | G22: 0 | H22: 1 | I22: =CONCATENATE(A22,B22,C22,D22,E22,F22,G22,H22) -> 01040501 | J22: =CONCATENATE(A22,B22,C22,D22,E22,F22,G22,H22) -> 01040501 | K22: SERAM | L22: HUESOS PROPIOS DE LA NARIZ (1P) | N22: Mantener | O22: Una adquisición radiográfica lateral del área facial | P22: HUESOS PROPIOS DE LA NARIZ | Q22: 0.94137467 | R22: =AP22 -> 0.83333333 | S22: 0.92810386 | T22: PTE. | U22: 5 | V22: =SUM(W22:AB22) -> 5 | W22: 3 | X22: 0 | Y22: 0 | Z22: 1 | AA22: 0 | AB22: 1 | AC22: 6'''''' | AD22: 5 | AE22: =SUM(AF22:AM22) -> 5 | AF22: 1 | AG22: 0 | AH22: 3 | AI22: 0 | AJ22: 0 | AK22: 0 | AL22: 0 | AM22: 1 | AO22: =(V22*AT22)+(AE22*AR22) -> 10 | AP22: =AO22/AO$8 -> 0.83333333 | AQ22: {=_xlfn.IFS(AP22<4,"estandar",AP22>9,"compleja",AP22>4,"avanzada")} -> estandar | AR22: 1 | AS22: 0 | AT22: 1 | AU22: 0 | AV22: 1.6392142 | AW22: 0 | AX22: 3.6251131 | AZ22: =SUM(AV22,AW22,AX22) -> 5.2643273 | BA22: =AZ22/AZ$8 -> 0.94137467 | BB22: 1.428413 | BC22: 0 | BD22: 0 | BE22: 1.2272304 | BF22: =SUM(AZ22,BB22,BC22,BD22,BE22) -> 7.9199707 | BG22: =BF22/BF$8 -> 0.92810386 | BL22: =SUM(BH22,BI22,BJ22) -> 0 | BM22: =BL22/BL$8 -> #DIV/0! | BR22: =SUM(BL22,BN22,BO22,BP22,BQ22) -> 0 | BS22: =BR22/BR$8 -> #DIV/0!
A23: 0 | B23: 1 | C23: 0 | D23: 4 | E23: 0 | F23: 6 | G23: 0 | H23: 1 | I23: =CONCATENATE(A23,B23,C23,D23,E23,F23,G23,H23) -> 01040601 | J23: =CONCATENATE(A23,B23,C23,D23,E23,F23,G23,H23) -> 01040601 | K23: SERAM | L23: MANDÍBULA DOS PROYECCIONES (2P) | N23: Mantener | O23: Dos adquisiciones radiográficas ortogonales colimadas | P23: MANDÍBULA DOS PROYECCIONES | Q23: 1 | R23: =AP23 -> 0.91666667 | S23: 1 | T23: PTE. | U23: 6 | V23: =SUM(W23:AB23) -> 6 | W23: 3 | X23: 0 | Y23: 0 | Z23: 1 | AA23: 1 | AB23: 1 | AC23: 6'''''' | AD23: 5 | AE23: =SUM(AF23:AM23) -> 5 | AF23: 1 | AG23: 0 | AH23: 3 | AI23: 0 | AJ23: 0 | AK23: 0 | AL23: 0 | AM23: 1 | AO23: =(V23*AT23)+(AE23*AR23) -> 11 | AP23: =AO23/AO$8 -> 0.91666667 | AQ23: {=_xlfn.IFS(AP23<4,"estandar",AP23>9,"compleja",AP23>4,"avanzada")} -> estandar | AR23: 1 | AS23: 0 | AT23: 1 | AU23: 0 | AV23: 1.967057 | AW23: 0 | AX23: 3.6251131 | AZ23: =SUM(AV23,AW23,AX23) -> 5.5921701 | BA23: =AZ23/AZ$8 -> 1 | BB23: 1.7140956 | BC23: 0 | BD23: 0 | BE23: 1.2272304 | BF23: =SUM(AZ23,BB23,BC23,BD23,BE23) -> 8.5334961 | BG23: =BF23/BF$8 -> 1 | BL23: =SUM(BH23,BI23,BJ23) -> 0 | BM23: =BL23/BL$8 -> #DIV/0! | BR23: =SUM(BL23,BN23,BO23,BP23,BQ23) -> 0 | BS23: =BR23/BR$8 -> #DIV/0!
A24: 0 | B24: 1 | C24: 0 | D24: 4 | E24: 0 | F24: 7 | G24: 0 | H24: 1 | I24: =CONCATENATE(A24,B24,C24,D24,E24,F24,G24,H24) -> 01040701 | J24: =CONCATENATE(A24,B24,C24,D24,E24,F24,G24,H24) -> 01040701 | K24: SERAM | L24: ARTICULACIÓN TEMPOROMANDIBULAR (BA/BC) BILATERAL (2P) | N24: Mantener | O24: Dos adquisiciones radiográficas colimadas sobre la respectiva articulación temporomandibular (ATM) en situación de apertura bucal (BA) o de cierre bucal (BC) | P24: ARTICULACIÓN TEMPOROMANDIBULAR (BA/BC) BILATERAL | Q24: 1 | R24: =AP24 -> 0.91666667 | S24: 1 | T24: PTE. | U24: 6 | V24: =SUM(W24:AB24) -> 6 | W24: 3 | X24: 0 | Y24: 0 | Z24: 1 | AA24: 1 | AB24: 1 | AC24: 6'''''' | AD24: 5 | AE24: =SUM(AF24:AM24) -> 5 | AF24: 1 | AG24: 0 | AH24: 3 | AI24: 0 | AJ24: 0 | AK24: 0 | AL24: 0 | AM24: 1 | AO24: =(V24*AT24)+(AE24*AR24) -> 11 | AP24: =AO24/AO$8 -> 0.91666667 | AQ24: {=_xlfn.IFS(AP24<4,"estandar",AP24>9,"compleja",AP24>4,"avanzada")} -> estandar | AR24: 1 | AS24: 0 | AT24: 1 | AU24: 0 | AV24: 1.967057 | AW24: 0 | AX24: 3.6251131 | AZ24: =SUM(AV24,AW24,AX24) -> 5.5921701 | BA24: =AZ24/AZ$8 -> 1 | BB24: 1.7140956 | BC24: 0 | BD24: 0 | BE24: 1.2272304 | BF24: =SUM(AZ24,BB24,BC24,BD24,BE24) -> 8.5334961 | BG24: =BF24/BF$8 -> 1 | BL24: =SUM(BH24,BI24,BJ24) -> 0 | BM24: =BL24/BL$8 -> #DIV/0! | BR24: =SUM(BL24,BN24,BO24,BP24,BQ24) -> 0 | BS24: =BR24/BR$8 -> #DIV/0!
A25: 0 | B25: 1 | C25: 0 | D25: 4 | E25: 0 | F25: 8 | G25: 0 | H25: 1 | I25: =CONCATENATE(A25,B25,C25,D25,E25,F25,G25,H25) -> 01040801 | J25: =CONCATENATE(A25,B25,C25,D25,E25,F25,G25,H25) -> 01040801 | K25: SERAM | L25: CUELLO PARTES BLANDAS / CAVUM (1P) | N25: Mantener | O25: Una adquisición radiográfica lateral del cuello con ajuste técnico para delmitación de partes blandas | P25: CUELLO PARTES BLANDAS/ CAVUM | Q25: 1 | R25: =AP25 -> 0.83333333 | S25: 1 | T25: PTE. | U25: 6 | V25: =SUM(W25:AB25) -> 5 | W25: 3 | X25: 0 | Y25: 0 | Z25: 1 | AA25: 0 | AB25: 1 | AD25: 5 | AE25: =SUM(AF25:AM25) -> 5 | AF25: 1 | AG25: 0 | AH25: 3 | AI25: 0 | AJ25: 0 | AK25: 0 | AL25: 0 | AM25: 1 | AO25: =(V25*AT25)+(AE25*AR25) -> 10 | AP25: =AO25/AO$8 -> 0.83333333 | AQ25: {=_xlfn.IFS(AP25<4,"estandar",AP25>9,"compleja",AP25>4,"avanzada")} -> estandar | AR25: 1 | AS25: 0 | AT25: 1 | AU25: 0 | AV25: 1.967057 | AW25: 0 | AX25: 3.6251131 | AZ25: =SUM(AV25,AW25,AX25) -> 5.5921701 | BA25: =AZ25/AZ$8 -> 1 | BB25: 1.7140956 | BC25: 0 | BD25: 0 | BE25: 1.2272304 | BF25: =SUM(AZ25,BB25,BC25,BD25,BE25) -> 8.5334961 | BG25: =BF25/BF$8 -> 1 | BL25: =SUM(BH25,BI25,BJ25) -> 0 | BM25: =BL25/BL$8 -> #DIV/0! | BR25: =SUM(BL25,BN25,BO25,BP25,BQ25) -> 0 | BS25: =BR25/BR$8 -> #DIV/0!
I26: =CONCATENATE(A26,B26,C26,D26,E26,F26,G26,H26)
J27: =CONCATENATE(A27,B27,C27,D27,E27,F27,G27,H27) | K27: SERAM | L27: ORTOPANTOMOGRAFÍA Y CEFALOMETRÍA | P27: ORTOPANTOMOGRAFÍA CEFALOMETRÍA | AC27: 8''''''
A28: 0 | B28: 1 | C28: 0 | D28: 4 | E28: 0 | F28: 9 | G28: 0 | H28: 1 | I28: =CONCATENATE(A28,B28,C28,D28,E28,F28,G28,H28) -> 01040901 | J28: =CONCATENATE(A28,B28,C28,D28,E28,F28,G28,H28) -> 01040901 | K28: SERAM | L28: ORTOPANTOMOGRAFÍA (1P) | N28: Mantener | O28: Una adquisción radiográfica panorámica que incluye la totalidad de la mandibula, dentadura y porcion adyacente de los senos maxilares | P28: ORTOPANTOMOGRAFÍA | Q28: 1.1172507 | R28: =AP28 -> 1 | S28: 0.9644247 | T28: PTE. | U28: 8 | V28: =SUM(W28:AB28) -> 7 | W28: 3 | X28: 0 | Y28: 0 | Z28: 2 | AA28: 0 | AB28: 2 | AC28: 8'''''' | AD28: 5 | AE28: =SUM(AF28:AM28) -> 5 | AF28: 1 | AG28: 0 | AH28: 3 | AI28: 0 | AJ28: 0 | AK28: 0 | AL28: 0 | AM28: 1 | AO28: =(V28*AT28)+(AE28*AR28) -> 12 | AP28: =AO28/AO$8 -> 1 | AQ28: {=_xlfn.IFS(AP28<4,"estandar",AP28>9,"compleja",AP28>4,"avanzada")} -> estandar | AR28: 1 | AS28: 0 | AT28: 1 | AU28: 0 | AV28: 2.6227427 | AW28: 0 | AX28: 3.6251131 | AZ28: =SUM(AV28,AW28,AX28) -> 6.2478558 | BA28: =AZ28/AZ$8 -> 1.1172507 | BB28: 0.75482825 | BC28: 0 | BD28: 0 | BE28: 1.2272304 | BF28: =SUM(AZ28,BB28,BC28,BD28,BE28) -> 8.2299144 | BG28: =BF28/BF$8 -> 0.9644247 | BL28: =SUM(BH28,BI28,BJ28) -> 0 | BM28: =BL28/BL$8 -> #DIV/0! | BR28: =SUM(BL28,BN28,BO28,BP28,BQ28) -> 0 | BS28: =BR28/BR$8 -> #DIV/0!
A29: 0 | B29: 1 | C29: 0 | D29: 4 | E29: 1 | F29: 0 | G29: 0 | H29: 1 | I29: =CONCATENATE(A29,B29,C29,D29,E29,F29,G29,H29) -> 01041001 | J29: =CONCATENATE(A29,B29,C29,D29,E29,F29,G29,H29) -> 01041001 | K29: SERAM | L29: CEFALOMETRÍA (1P) | N29: Mantener | O29: Una adquisición radiográfica en proyección lateral de la región cráneo facial completa y sinclítica para delimitación de medidas de referencia entre estructuras anatómicas. | P29: CEFALOMETRÍA | Q29: 1.1172507 | R29: =AP29 -> 1 | S29: 0.9644247 | T29: PTE. | U29: 8 | V29: =SUM(W29:AB29) -> 7 | W29: 3 | X29: 0 | Y29: 0 | Z29: 2 | AA29: 0 | AB29: 2 | AC29: 8'''''' | AD29: 5 | AE29: =SUM(AF29:AM29) -> 5 | AF29: 1 | AG29: 0 | AH29: 3 | AI29: 0 | AJ29: 0 | AK29: 0 | AL29: 0 | AM29: 1 | AO29: =(V29*AT29)+(AE29*AR29) -> 12 | AP29: =AO29/AO$8 -> 1 | AQ29: {=_xlfn.IFS(AP29<4,"estandar",AP29>9,"compleja",AP29>4,"avanzada")} -> estandar | AR29: 1 | AS29: 0 | AT29: 1 | AU29: 0 | AV29: 2.6227427 | AW29: 0 | AX29: 3.6251131 | AZ29: =SUM(AV29,AW29,AX29) -> 6.2478558 | BA29: =AZ29/AZ$8 -> 1.1172507 | BB29: 0.75482825 | BC29: 0 | BD29: 0 | BE29: 1.2272304 | BF29: =SUM(AZ29,BB29,BC29,BD29,BE29) -> 8.2299144 | BG29: =BF29/BF$8 -> 0.9644247 | BL29: =SUM(BH29,BI29,BJ29) -> 0 | BM29: =BL29/BL$8 -> #DIV/0! | BR29: =SUM(BL29,BN29,BO29,BP29,BQ29) -> 0 | BS29: =BR29/BR$8 -> #DIV/0!
A30: 0 | B30: 1 | C30: 0 | D30: 4 | E30: 1 | F30: 1 | G30: 0 | H30: 1 | I30: =CONCATENATE(A30,B30,C30,D30,E30,F30,G30,H30) -> 01041101 | J30: =CONCATENATE(A30,B30,C30,D30,E30,F30,G30,H30) -> 01041101 | K30: SERAM | L30: DENTAL INDIVIDUAL, INTRABUCAL (1P) | N30: Mantener | O30: Una adquisición radiográfica sobre una pieza dental de referencia. | P30: DENTAL INDIVIDUAL, INTRABUCAL | Q30: 1.1172507 | R30: =AP30 -> 1.0833333 | S30: 0.9644247 | T30: PTE. | U30: 8 | V30: =SUM(W30:AB30) -> 8 | W30: 3 | X30: 0 | Y30: 0 | Z30: 3 | AA30: 0 | AB30: 2 | AD30: 5 | AE30: =SUM(AF30:AM30) -> 5 | AF30: 1 | AG30: 0 | AH30: 3 | AI30: 0 | AJ30: 0 | AK30: 0 | AL30: 0 | AM30: 1 | AO30: =(V30*AT30)+(AE30*AR30) -> 13 | AP30: =AO30/AO$8 -> 1.0833333 | AQ30: {=_xlfn.IFS(AP30<4,"estandar",AP30>9,"compleja",AP30>4,"avanzada")} -> estandar | AR30: 1 | AS30: 0 | AT30: 1 | AU30: 0 | AV30: 2.6227427 | AW30: 0 | AX30: 3.6251131 | AZ30: =SUM(AV30,AW30,AX30) -> 6.2478558 | BA30: =AZ30/AZ$8 -> 1.1172507 | BB30: 0.75482825 | BC30: 0 | BD30: 0 | BE30: 1.2272304 | BF30: =SUM(AZ30,BB30,BC30,BD30,BE30) -> 8.2299144 | BG30: =BF30/BF$8 -> 0.9644247 | BL30: =SUM(BH30,BI30,BJ30) -> 0 | BM30: =BL30/BL$8 -> #DIV/0! | BR30: =SUM(BL30,BN30,BO30,BP30,BQ30) -> 0 | BS30: =BR30/BR$8 -> #DIV/0!
K32: SENR | L32: TC HAZ CÓNICO (CBCT)
A33: 0 | B33: 1 | C33: 0 | D33: 4 | E33: 5 | F33: 0 | G33: 0 | H33: 1 | J33: =CONCATENATE(A33,B33,C33,D33,E33,F33,G33,H33) -> 01045001 | K33: SENR | L33: CBCT FACIAL/SENOS | N33: Incluir | O33: 1 serie de imágenes obtenidas con tomografía de haz cónico en la región facial que permite su reconstrucción multiplanar | P33: CBCT FACIAL/SENOS | R33: =AP33 -> 2.9166667 | T33: PTE. | V33: =SUM(W33:AB33) -> 15 | W33: 5 | X33: 0 | Y33: 0 | Z33: 5 | AA33: 0 | AB33: 5 | AE33: =SUM(AF33:AM33) -> 20 | AF33: 3 | AG33: 0 | AH33: 10 | AI33: 0 | AJ33: 0 | AK33: 3 | AL33: 0 | AM33: 4 | AO33: =(V33*AT33)+(AE33*AR33) -> 35 | AP33: =AO33/AO$8 -> 2.9166667 | AQ33: {=_xlfn.IFS(AP33<4,"estandar",AP33>9,"compleja",AP33>4,"avanzada")} -> estandar | AR33: 1 | AS33: 0 | AT33: 1 | AU33: 0
A34: 0 | B34: 1 | C34: 0 | D34: 4 | E34: 5 | F34: 1 | G34: 0 | H34: 1 | J34: =CONCATENATE(A34,B34,C34,D34,E34,F34,G34,H34) -> 01045101 | K34: SENR | L34: CBCT PEÑASCO | N34: Incluir | O34: 1 serie de imágenes obtenidas con tomografía de haz cónico en la base de cráneo para estudio del hueso temporal y que permite su reconstrucción multiplanar | P34: CBCT PEÑASCO | R34: =AP34 -> 2.9166667 | T34: PTE. | V34: =SUM(W34:AB34) -> 15 | W34: 5 | X34: 0 | Y34: 0 | Z34: 5 | AA34: 0 | AB34: 5 | AE34: =SUM(AF34:AM34) -> 20 | AF34: 3 | AG34: 0 | AH34: 10 | AI34: 0 | AJ34: 0 | AK34: 3 | AL34: 0 | AM34: 4 | AO34: =(V34*AT34)+(AE34*AR34) -> 35 | AP34: =AO34/AO$8 -> 2.9166667 | AQ34: {=_xlfn.IFS(AP34<4,"estandar",AP34>9,"compleja",AP34>4,"avanzada")} -> estandar | AR34: 1 | AS34: 0 | AT34: 1 | AU34: 0
A35: 0 | B35: 1 | C35: 0 | D35: 4 | E35: 5 | F35: 2 | G35: 0 | H35: 1 | J35: =CONCATENATE(A35,B35,C35,D35,E35,F35,G35,H35) -> 01045201 | K35: SENR | L35: CBCT MAXILAR/MANDIBULAR/ATM | N35: Incluir | O35: 1 serie de imágenes obtenidas con tomografía de haz cónico en la región maxilar/mandibular y que permite su reconstrucción multiplanar | P35: CBCT maxilar/mandibular/ATM | R35: =AP35 -> 2.9166667 | T35: PTE. | V35: =SUM(W35:AB35) -> 15 | W35: 5 | X35: 0 | Y35: 0 | Z35: 5 | AA35: 0 | AB35: 5 | AE35: =SUM(AF35:AM35) -> 20 | AF35: 3 | AG35: 0 | AH35: 10 | AI35: 0 | AJ35: 0 | AK35: 3 | AL35: 0 | AM35: 4 | AO35: =(V35*AT35)+(AE35*AR35) -> 35 | AP35: =AO35/AO$8 -> 2.9166667 | AQ35: {=_xlfn.IFS(AP35<4,"estandar",AP35>9,"compleja",AP35>4,"avanzada")} -> estandar | AR35: 1 | AS35: 0 | AT35: 1 | AU35: 0
A36: 0 | B36: 1 | C36: 0 | D36: 9 | E36: 5 | F36: 0 | G36: 0 | H36: 1 | J36: =CONCATENATE(A36,B36,C36,D36,E36,F36,G36,H36) -> 01095001 | K36: SENR | L36: CBCT OTRA ANATOMÍA | N36: Incluir | O36: 1 serie de imágenes obtenidas con tomografía de haz cónico en una región anatómica determinada que permite su reconstrucción multiplanar | P36: CBCT OTRA ANATOMÍA | R36: =AP36 -> 2.9166667 | T36: PTE. | V36: =SUM(W36:AB36) -> 15 | W36: 5 | X36: 0 | Y36: 0 | Z36: 5 | AA36: 0 | AB36: 5 | AE36: =SUM(AF36:AM36) -> 20 | AF36: 3 | AG36: 0 | AH36: 10 | AI36: 0 | AJ36: 0 | AK36: 3 | AL36: 0 | AM36: 4 | AO36: =(V36*AT36)+(AE36*AR36) -> 35 | AP36: =AO36/AO$8 -> 2.9166667 | AQ36: {=_xlfn.IFS(AP36<4,"estandar",AP36>9,"compleja",AP36>4,"avanzada")} -> estandar | AR36: 1 | AS36: 0 | AT36: 1 | AU36: 0
I37: =CONCATENATE(A37,B37,C37,D37,E37,F37,G37,H37)
I38: =CONCATENATE(A38,B38,C38,D38,E38,F38,G38,H38) | J38: =CONCATENATE(A38,B38,C38,D38,E38,F38,G38,H38) | K38: SERAM | L38: RADIOLOGÍA DE COLUMNA | P38: RADIOLOGÍA DE COLUMNA | AC38: 6''''''
A39: 0 | B39: 1 | C39: 0 | D39: 5 | E39: 0 | F39: 1 | G39: 0 | H39: 1 | I39: =CONCATENATE(A39,B39,C39,D39,E39,F39,G39,H39) -> 01050101 | J39: =CONCATENATE(A39,B39,C39,D39,E39,F39,G39,H39) -> 01050101 | K39: SERAM | L39: COLUMNA CERVICAL AP Y LAT (2P) | N39: Mantener | O39: Dos adquisiciones radiográficas ortogonales (AP/LAT) colimadas obtenidas sobre la columna cervical | P39: COLUMNA CERVICAL AP Y LAT. | Q39: 1 | R39: =AP39 -> 0.91666667 | S39: 1 | T39: PTE. | U39: 6 | V39: =SUM(W39:AB39) -> 6 | W39: 3 | X39: 0 | Y39: 0 | Z39: 1 | AA39: 1 | AB39: 1 | AC39: 8'''''' | AD39: 5 | AE39: =SUM(AF39:AM39) -> 5 | AF39: 1 | AG39: 0 | AH39: 3 | AI39: 0 | AJ39: 0 | AK39: 0 | AL39: 0 | AM39: 1 | AO39: =(V39*AT39)+(AE39*AR39) -> 11 | AP39: =AO39/AO$8 -> 0.91666667 | AQ39: {=_xlfn.IFS(AP39<4,"estandar",AP39>9,"compleja",AP39>4,"avanzada")} -> estandar | AR39: 1 | AS39: 0 | AT39: 1 | AU39: 0 | AV39: 1.967057 | AW39: 0 | AX39: 3.6251131 | AZ39: =SUM(AV39,AW39,AX39) -> 5.5921701 | BA39: =AZ39/AZ$8 -> 1 | BB39: 1.7140956 | BC39: 0 | BD39: 0 | BE39: 1.2272304 | BF39: =SUM(AZ39,BB39,BC39,BD39,BE39) -> 8.5334961 | BG39: =BF39/BF$8 -> 1 | BL39: =SUM(BH39,BI39,BJ39) -> 0 | BM39: =BL39/BL$8 -> #DIV/0! | BR39: =SUM(BL39,BN39,BO39,BP39,BQ39) -> 0 | BS39: =BR39/BR$8 -> #DIV/0!
A40: 0 | B40: 1 | C40: 0 | D40: 5 | E40: 0 | F40: 2 | G40: 0 | H40: 1 | I40: =CONCATENATE(A40,B40,C40,D40,E40,F40,G40,H40) -> 01050201 | J40: =CONCATENATE(A40,B40,C40,D40,E40,F40,G40,H40) -> 01050201 | K40: SERAM | L40: COLUMNA CERVICAL OBLICUAS (2P) | N40: Mantener | O40: Dos adquisiciones radiográficas ortogonales (OD/OI) colimadas obtenidas sobre la columna cervical para delimitar los agujeros de conjunción | P40: COLUMNA CERVICAL OBLICUAS | Q40: 1.1172507 | R40: =AP40 -> 0.91666667 | S40: 1.1437923 | T40: PTE. | U40: 8 | V40: =SUM(W40:AB40) -> 6 | W40: 3 | X40: 0 | Y40: 0 | Z40: 1 | AA40: 1 | AB40: 1 | AC40: 8'''''' | AD40: 5 | AE40: =SUM(AF40:AM40) -> 5 | AF40: 1 | AG40: 0 | AH40: 3 | AI40: 0 | AJ40: 0 | AK40: 0 | AL40: 0 | AM40: 1 | AO40: =(V40*AT40)+(AE40*AR40) -> 11 | AP40: =AO40/AO$8 -> 0.91666667 | AQ40: {=_xlfn.IFS(AP40<4,"estandar",AP40>9,"compleja",AP40>4,"avanzada")} -> estandar | AR40: 1 | AS40: 0 | AT40: 1 | AU40: 0 | AV40: 2.6227427 | AW40: 0 | AX40: 3.6251131 | AZ40: =SUM(AV40,AW40,AX40) -> 6.2478558 | BA40: =AZ40/AZ$8 -> 1.1172507 | BB40: 2.2854608 | BC40: 0 | BD40: 0 | BE40: 1.2272304 | BF40: =SUM(AZ40,BB40,BC40,BD40,BE40) -> 9.760547 | BG40: =BF40/BF$8 -> 1.1437923 | BL40: =SUM(BH40,BI40,BJ40) -> 0 | BM40: =BL40/BL$8 -> #DIV/0! | BR40: =SUM(BL40,BN40,BO40,BP40,BQ40) -> 0 | BS40: =BR40/BR$8 -> #DIV/0!
A41: 0 | B41: 1 | C41: 0 | D41: 5 | E41: 0 | F41: 3 | G41: 0 | H41: 1 | I41: =CONCATENATE(A41,B41,C41,D41,E41,F41,G41,H41) -> 01050301 | J41: =CONCATENATE(A41,B41,C41,D41,E41,F41,G41,H41) -> 01050301 | K41: SERAM | L41: COLUMNA CERVICAL FLEXO-EXT (2P) | N41: Mantener | O41: Dos adquisiciones radiográficas colimadas obtenidas sobre la columna cervical en situación de flexión y extensión máxima. | P41: COLUMNA CERVICAL FLEXO-EXT. | Q41: 1.1172507 | R41: =AP41 -> 0.91666667 | S41: 1.1437923 | T41: PTE. | U41: 8 | V41: =SUM(W41:AB41) -> 6 | W41: 3 | X41: 0 | Y41: 0 | Z41: 1 | AA41: 1 | AB41: 1 | AC41: 6'''''' | AD41: 5 | AE41: =SUM(AF41:AM41) -> 5 | AF41: 1 | AG41: 0 | AH41: 3 | AI41: 0 | AJ41: 0 | AK41: 0 | AL41: 0 | AM41: 1 | AO41: =(V41*AT41)+(AE41*AR41) -> 11 | AP41: =AO41/AO$8 -> 0.91666667 | AQ41: {=_xlfn.IFS(AP41<4,"estandar",AP41>9,"compleja",AP41>4,"avanzada")} -> estandar | AR41: 1 | AS41: 0 | AT41: 1 | AU41: 0 | AV41: 2.6227427 | AW41: 0 | AX41: 3.6251131 | AZ41: =SUM(AV41,AW41,AX41) -> 6.2478558 | BA41: =AZ41/AZ$8 -> 1.1172507 | BB41: 2.2854608 | BC41: 0 | BD41: 0 | BE41: 1.2272304 | BF41: =SUM(AZ41,BB41,BC41,BD41,BE41) -> 9.760547 | BG41: =BF41/BF$8 -> 1.1437923 | BL41: =SUM(BH41,BI41,BJ41) -> 0 | BM41: =BL41/BL$8 -> #DIV/0! | BR41: =SUM(BL41,BN41,BO41,BP41,BQ41) -> 0 | BS41: =BR41/BR$8 -> #DIV/0!
...

Sheet Rad. Conv. con contraste 
A1: REVISADA
O2: OMC | U2: CATÁLOGO PRUEBAS Y PROCEDIMIENTOS SERAM 2024
I3: =CONCATENATE(A3,B3,C3,D3,E3,F3,G3,H3) | U3: RADIOLOGÍA CONVENCIONAL CON CONTRASTE
